BEGIN:VCALENDAR
VERSION:2.0
PRODID:-//Trelleborgs BTK//NONSGML kigkonsult.se iCalcreator 2.30.10//
CALSCALE:GREGORIAN
METHOD:PUBLISH
UID:d7282666-e7c7-454a-ae65-e1dacb8ce6fb
X-WR-CALNAME:iCagenda
X-WR-CALDESC:Event Management Extension for Joomla!
X-WR-RELCALID:3E26604A-50F4-4449-8B3E-E4F4932D05B5
X-WR-TIMEZONE:UTC
BEGIN:VTIMEZONE
TZID:UTC
END:VTIMEZONE
BEGIN:VEVENT
UID:bf509829-6b9a-426a-911f-dca4df814da7
DTSTAMP:20260420T103223Z
CATEGORIES:Div 4 Södra
CLASS:PUBLIC
DESCRIPTION:
DTSTART:20260313T183000Z
DTEND:20260313T183000Z
GEO:+55.386692;+13.156636
LOCATION:Söderslättshallen i Trelleborg
ORGANIZER:
SEQUENCE:1
SUMMARY:Trelleborgs BTK C - IFK Klagshamn A
TRANSP:OPAQUE
URL:https://trelleborgsbtk.se/index.php/innehall/kalender-seriespel/53-trel
 leborgs-btk-c-ifk-klagshamn-a/2026-03-13-18-30
END:VEVENT
END:VCALENDAR
