BEGIN:VCALENDAR
VERSION:2.0
PRODID:-//Trelleborgs BTK//NONSGML kigkonsult.se iCalcreator 2.30.10//
CALSCALE:GREGORIAN
METHOD:PUBLISH
UID:bc2344e2-a27f-4c2b-addf-9b264496cb15
X-WR-CALNAME:iCagenda
X-WR-CALDESC:Event Management Extension for Joomla!
X-WR-RELCALID:3E26604A-50F4-4449-8B3E-E4F4932D05B5
X-WR-TIMEZONE:UTC
BEGIN:VTIMEZONE
TZID:UTC
END:VTIMEZONE
BEGIN:VEVENT
UID:9b1e37ad-dc38-4e15-ab5b-ec4bda39c99f
DTSTAMP:20260420T103446Z
CATEGORIES:Div 6 Södra 2
CLASS:PUBLIC
DESCRIPTION:
DTSTART:20260314T130000Z
DTEND:20260314T130000Z
GEO:+55.703949;+13.17765
LOCATION:Bollhuset
ORGANIZER:
SEQUENCE:1
SUMMARY:IFK Lund F5 - Trelleborgs BTK E
TRANSP:OPAQUE
URL:https://trelleborgsbtk.se/index.php/innehall/kalender-seriespel/73-ifk-
 lund-f5-trelleborgs-btk-e/2026-03-14-13-00
END:VEVENT
END:VCALENDAR
