BEGIN:VCALENDAR
VERSION:2.0
PRODID:-//Trelleborgs BTK//NONSGML kigkonsult.se iCalcreator 2.30.10//
CALSCALE:GREGORIAN
METHOD:PUBLISH
UID:f8633b5e-3627-4c89-aeaf-6434c7a99629
X-WR-CALNAME:iCagenda
X-WR-CALDESC:Event Management Extension for Joomla!
X-WR-RELCALID:3E26604A-50F4-4449-8B3E-E4F4932D05B5
X-WR-TIMEZONE:UTC
BEGIN:VTIMEZONE
TZID:UTC
END:VTIMEZONE
BEGIN:VEVENT
UID:a4a45e7f-9279-4c42-aebc-d7c3505841a2
DTSTAMP:20260420T101815Z
CATEGORIES:Div 6 Södra 3
CLASS:PUBLIC
DESCRIPTION:
DTSTART:20260315T100000Z
DTEND:20260315T100000Z
GEO:00;0
LOCATION:Borrby Sporthall
ORGANIZER:
SEQUENCE:1
SUMMARY:IFK Lund F4 - Trelleborgs BTK F
TRANSP:OPAQUE
URL:https://trelleborgsbtk.se/index.php/innehall/kalender-seriespel/80-ifk-
 lund-f4-trelleborgs-btk-f/2026-03-15-10-00
END:VEVENT
END:VCALENDAR
